BEGIN:VCALENDAR
VERSION:2.0
PRODID:-//I am the Resurrection and Life Ministry - ECPv6.15.20//NONSGML v1.0//EN
CALSCALE:GREGORIAN
METHOD:PUBLISH
X-WR-CALNAME:I am the Resurrection and Life Ministry
X-ORIGINAL-URL:https://iamtheresurrectionandlife.com
X-WR-CALDESC:Events for I am the Resurrection and Life Ministry
REFRESH-INTERVAL;VALUE=DURATION:PT1H
X-Robots-Tag:noindex
X-PUBLISHED-TTL:PT1H
BEGIN:VTIMEZONE
TZID:America/Toronto
BEGIN:DAYLIGHT
TZOFFSETFROM:-0500
TZOFFSETTO:-0400
TZNAME:EDT
DTSTART:20230312T070000
END:DAYLIGHT
BEGIN:STANDARD
TZOFFSETFROM:-0400
TZOFFSETTO:-0500
TZNAME:EST
DTSTART:20231105T060000
END:STANDARD
BEGIN:DAYLIGHT
TZOFFSETFROM:-0500
TZOFFSETTO:-0400
TZNAME:EDT
DTSTART:20240310T070000
END:DAYLIGHT
BEGIN:STANDARD
TZOFFSETFROM:-0400
TZOFFSETTO:-0500
TZNAME:EST
DTSTART:20241103T060000
END:STANDARD
BEGIN:DAYLIGHT
TZOFFSETFROM:-0500
TZOFFSETTO:-0400
TZNAME:EDT
DTSTART:20250309T070000
END:DAYLIGHT
BEGIN:STANDARD
TZOFFSETFROM:-0400
TZOFFSETTO:-0500
TZNAME:EST
DTSTART:20251102T060000
END:STANDARD
END:VTIMEZONE
BEGIN:VTIMEZONE
TZID:UTC
BEGIN:STANDARD
TZOFFSETFROM:+0000
TZOFFSETTO:+0000
TZNAME:UTC
DTSTART:20230101T000000
END:STANDARD
END:VTIMEZONE
BEGIN:VEVENT
DTSTART;TZID=America/Toronto:20241117T103000
DTEND;TZID=America/Toronto:20241117T130000
DTSTAMP:20260422T133242
CREATED:20241101T215444Z
LAST-MODIFIED:20241101T215444Z
UID:1857-1731839400-1731848400@iamtheresurrectionandlife.com
SUMMARY:Sunday morning
DESCRIPTION:
URL:https://iamtheresurrectionandlife.com/event/sunday-morning/
LOCATION:New City Church Brantford\, 190 Lynden Rd\, Brantford\, ON\, N3R 8A3\, Canada
CATEGORIES:Church
ATTACH;FMTTYPE=image/jpeg:https://iamtheresurrectionandlife.com/wp-content/uploads/2024/11/SUNDAY-SERVICE.jpeg
END:VEVENT
BEGIN:VEVENT
DTSTART;TZID=UTC:20241018T190000
DTEND;TZID=UTC:20241018T190000
DTSTAMP:20260422T133242
CREATED:20241005T030631Z
LAST-MODIFIED:20241010T013742Z
UID:1724-1729278000-1729278000@iamtheresurrectionandlife.com
SUMMARY:Revival Nights
DESCRIPTION:
URL:https://iamtheresurrectionandlife.com/event/revival-nights/
LOCATION:Church\, 140 Industrial Blvd\, Napanee\, ON\, K7R 3Y9\, Canada
CATEGORIES:Church
ATTACH;FMTTYPE=image/jpeg:https://iamtheresurrectionandlife.com/wp-content/uploads/2024/10/Revival-Night.jpeg
END:VEVENT
END:VCALENDAR